!table
!version 300
!charset WindowsLatin1

Definition Table
  File "33044061.tif"
  Type "RASTER"
  (582429,263569) (1,7594) Label "Pt 1",
  (582372,265177) (1,0) Label "Pt 2",
  (584784,265263) (11335,1) Label "Pt 3",
  (584841,263655) (11335,7594) Label "Pt 4"
  CoordSys Earth Projection 8, 79, "m", -2, 49, 0.9996012717, 400000, -100000
  Units "m"
